BEGIN:VCALENDAR
METHOD:PUBLISH
VERSION:2.0
CALSCALE:GREGORIAN
PRODID:-//NONSGML WPForms//NONSGML Sugar Calendar Feeds v3.11.0//EN
X-WR-CALNAME:Youth Leadership Series
X-WR-CALDESC:Richmond Multicultural Community Services
X-WR-TIMEZONE:America/Vancouver
BEGIN:VTIMEZONE
TZID:America/Vancouver
BEGIN:STANDARD
TZOFFSETFROM:-0700
TZOFFSETTO:-0800
DTSTART:20231105T090000
TZNAME:PST
END:STANDARD
END:VTIMEZONE
BEGIN:VTIMEZONE
TZID:America/Vancouver
BEGIN:STANDARD
TZOFFSETFROM:-0700
TZOFFSETTO:-0800
DTSTART:20231105T090000
TZNAME:PST
END:STANDARD
END:VTIMEZONE
BEGIN:VEVENT
SUMMARY:Youth Leadership Series
DESCRIPTION:Are you a newcomer Canadian aged 13-25 and looking to gain l
 eadership training? This group learns new skills\, increases confidence\
 , and connects with other immigrant youth through field trips and worksh
 ops.\n\nThis workshop will take place on CP 294. Please contact Xiaowei 
 at xiaowei@rmcs.bc.ca or Bhavana at bhavana@rmcs.bc.ca and call 604-2
 79-7160 for more information/registration.
URL;VALUE=URI:https://www.rmcs.bc.ca/events/youth-leadership-5-2-2-2/
UID:urn:uuid:cf0a545c-bbd7-4e2c-8994-8015803644bd
STATUS:CONFIRMED
ORGANIZER:
DTSTAMP:20260421T224331Z
DTSTART;TZID=America/Vancouver:20240110T160000
DTEND;TZID=America/Vancouver:20240110T173000
RRULE:FREQ=WEEKLY;INTERVAL=1;UNTIL=20240217T235959Z
LOCATION:CP294
END:VEVENT
END:VCALENDAR