BEGIN:VCALENDAR
METHOD:PUBLISH
VERSION:2.0
CALSCALE:GREGORIAN
PRODID:-//NONSGML WPForms//NONSGML Sugar Calendar Feeds v3.11.0//EN
X-WR-CALNAME:What Employers Want!
X-WR-CALDESC:Richmond Multicultural Community Services
X-WR-TIMEZONE:America/Vancouver
BEGIN:VTIMEZONE
TZID:America/Vancouver
BEGIN:DAYLIGHT
TZOFFSETFROM:-0700
TZOFFSETTO:-0700
DTSTART:20210323T230000
TZNAME:PDT
END:DAYLIGHT
END:VTIMEZONE
BEGIN:VTIMEZONE
TZID:America/Vancouver
BEGIN:DAYLIGHT
TZOFFSETFROM:-0700
TZOFFSETTO:-0700
DTSTART:20210323T230000
TZNAME:PDT
END:DAYLIGHT
END:VTIMEZONE
BEGIN:VEVENT
SUMMARY:What Employers Want!
DESCRIPTION:This workshop will take place on our Facebook RMCS Settlers 
 Group and there are only TWO steps to join RMCS Settlers group to watch 
 our FREE workshops\;\n1) Simply\, "like" our Facebook and\;\n2) You ca
 n find "RMCS Settlers" under "group". Answer the two questions\, press "
 join" and you are set! Please join us at RMCS Settlers group for more ti
 mely information!
URL;VALUE=URI:https://www.rmcs.bc.ca/events/what-employers-want/
UID:urn:uuid:5c498b47-66f8-415b-8505-ef9e13847cd6
STATUS:CONFIRMED
ORGANIZER:
DTSTAMP:20260422T130713Z
DTSTART;TZID=America/Vancouver:20210922T110000
DTEND;TZID=America/Vancouver:20210922T113000
LOCATION:Facebook RMCS Settlers
END:VEVENT
END:VCALENDAR