BEGIN:VCALENDAR
METHOD:PUBLISH
VERSION:2.0
CALSCALE:GREGORIAN
PRODID:-//NONSGML WPForms//NONSGML Sugar Calendar Feeds v3.11.0//EN
X-WR-CALNAME:Volunteer Networking Group
X-WR-CALDESC:Richmond Multicultural Community Services
X-WR-TIMEZONE:America/Vancouver
BEGIN:VTIMEZONE
TZID:America/Vancouver
BEGIN:DAYLIGHT
TZOFFSETFROM:-0700
TZOFFSETTO:-0700
DTSTART:20230426T033000
TZNAME:PDT
END:DAYLIGHT
END:VTIMEZONE
BEGIN:VTIMEZONE
TZID:America/Vancouver
BEGIN:DAYLIGHT
TZOFFSETFROM:-0700
TZOFFSETTO:-0700
DTSTART:20230426T033000
TZNAME:PDT
END:DAYLIGHT
END:VTIMEZONE
BEGIN:VEVENT
SUMMARY:Volunteer Networking Group
DESCRIPTION:We love our volunteers and want to connect with you on a reg
 ular basis. Join this meeting to learn new skills\, meet friends and fin
 d support that will help you throughout your daily lives.\n\nThis worksh
 op will take place on Richmond Caring Place Room 294 and Zoom (Hybrid). 
 Please contact Maki at volunteercoordinator@rmcs.bc.ca or call 604-279-7
 160 for more information/registration.
URL;VALUE=URI:https://www.rmcs.bc.ca/events/volunteer-networking-group-1
 0-2-2-2-2-2-3-3-2-2-2-2-2/
UID:urn:uuid:3e91ea5d-15e7-4f46-98b9-91ad16ef5fc2
STATUS:CONFIRMED
ORGANIZER:
DTSTAMP:20260423T141601Z
DTSTART;TZID=America/Vancouver:20231025T153000
DTEND;TZID=America/Vancouver:20231025T163000
LOCATION:CP294 and Zoom
END:VEVENT
END:VCALENDAR