BEGIN:VCALENDAR
METHOD:PUBLISH
VERSION:2.0
CALSCALE:GREGORIAN
PRODID:-//NONSGML WPForms//NONSGML Sugar Calendar Feeds v3.11.0//EN
X-WR-CALNAME:Volunteer Networking Group (for the registered volunteers w
 ith RMCS)
X-WR-CALDESC:Richmond Multicultural Community Services
X-WR-TIMEZONE:America/Vancouver
BEGIN:VTIMEZONE
TZID:America/Vancouver
BEGIN:STANDARD
TZOFFSETFROM:-0700
TZOFFSETTO:-0800
DTSTART:20241103T090000
TZNAME:PST
END:STANDARD
BEGIN:DAYLIGHT
TZOFFSETFROM:-0800
TZOFFSETTO:-0700
DTSTART:20250309T100000
TZNAME:PDT
END:DAYLIGHT
END:VTIMEZONE
BEGIN:VTIMEZONE
TZID:America/Vancouver
BEGIN:STANDARD
TZOFFSETFROM:-0700
TZOFFSETTO:-0800
DTSTART:20241103T090000
TZNAME:PST
END:STANDARD
BEGIN:DAYLIGHT
TZOFFSETFROM:-0800
TZOFFSETTO:-0700
DTSTART:20250309T100000
TZNAME:PDT
END:DAYLIGHT
END:VTIMEZONE
BEGIN:VEVENT
SUMMARY:Volunteer Networking Group (for the registered volunteers with R
 MCS)
DESCRIPTION:We love our volunteers and want to connect with you regularl
 y. Join this meeting to learn new skills\, meet friends\, and find suppo
 rt that will help you throughout your daily lives. This workshop will ta
 ke place in Richmond Caring Place Room 340. Please contact Maki at volun
 teercoordinator@rmcs.bc.ca or call 604-279-7160 for more information/reg
 istration.
URL;VALUE=URI:https://www.rmcs.bc.ca/events/volunteer-networking-group-1
 0-2-2-2-2-2-3-3-2-2-2-2-2-2-2-2-2-2-2-2-2-2-2-2-2-2-2-2-2-2/
UID:urn:uuid:3e91ea5d-15e7-4f46-98b9-91ad16ef5fc2
STATUS:CONFIRMED
ORGANIZER:
DTSTAMP:20260421T225413Z
DTSTART;TZID=America/Vancouver:20250328T153000
DTEND;TZID=America/Vancouver:20250328T163000
LOCATION:CP340
END:VEVENT
END:VCALENDAR