BEGIN:VCALENDAR
METHOD:PUBLISH
VERSION:2.0
CALSCALE:GREGORIAN
PRODID:-//NONSGML WPForms//NONSGML Sugar Calendar Feeds v3.11.0//EN
X-WR-CALNAME:Updated Health Guidelines and Information for COVID-19 - Co
 py
X-WR-CALDESC:Richmond Multicultural Community Services
X-WR-TIMEZONE:America/Vancouver
BEGIN:VTIMEZONE
TZID:America/Vancouver
BEGIN:STANDARD
TZOFFSETFROM:-0700
TZOFFSETTO:-0800
DTSTART:20201101T090000
TZNAME:PST
END:STANDARD
END:VTIMEZONE
BEGIN:VTIMEZONE
TZID:America/Vancouver
BEGIN:STANDARD
TZOFFSETFROM:-0700
TZOFFSETTO:-0800
DTSTART:20201101T090000
TZNAME:PST
END:STANDARD
END:VTIMEZONE
BEGIN:VEVENT
SUMMARY:Updated Health Guidelines and Information for COVID-19 - Copy
DESCRIPTION:This workshop will take place on our Facebook RMCS Settlers 
 Group and there are only TWO steps to join RMCS Settlers group to watch 
 our FREE workshops\;\n\n1) Simply\, “like” our Facebook and\;\n\n2
 ) You can find “RMCS Settlers” under “group”. Answer the two que
 stions\, press “join” and you are set!\n\nPlease join us at RMCS Set
 tlers group for more timely information!
URL;VALUE=URI:https://www.rmcs.bc.ca/events/updated-health-guidelines-an
 d-information-for-covid-19-2/
UID:urn:uuid:a9e69ccb-9a51-40e9-9f8c-6487f59f64c0
STATUS:CONFIRMED
ORGANIZER:
DTSTAMP:20260422T020905Z
DTSTART;TZID=America/Vancouver:20201119T110000
DTEND;TZID=America/Vancouver:20201119T113000
END:VEVENT
END:VCALENDAR