BEGIN:VCALENDAR
METHOD:PUBLISH
VERSION:2.0
CALSCALE:GREGORIAN
PRODID:-//NONSGML WPForms//NONSGML Sugar Calendar Feeds v3.11.0//EN
X-WR-CALNAME:Understanding Senior Pensions\, OAS and GIS
X-WR-CALDESC:Richmond Multicultural Community Services
X-WR-TIMEZONE:America/Vancouver
BEGIN:VTIMEZONE
TZID:America/Vancouver
BEGIN:DAYLIGHT
TZOFFSETFROM:-0700
TZOFFSETTO:-0700
DTSTART:20230327T223000
TZNAME:PDT
END:DAYLIGHT
END:VTIMEZONE
BEGIN:VTIMEZONE
TZID:America/Vancouver
BEGIN:DAYLIGHT
TZOFFSETFROM:-0700
TZOFFSETTO:-0700
DTSTART:20230327T223000
TZNAME:PDT
END:DAYLIGHT
END:VTIMEZONE
BEGIN:VEVENT
SUMMARY:Understanding Senior Pensions\, OAS and GIS
DESCRIPTION:This workshop will take place at Richmond Caring Place Room 
 294 and Zoom (Hybrid). Please contact Xiaowei at xiaowei@rmcs.bc.ca or c
 all 604-279-7160 for more information/registration.
URL;VALUE=URI:https://www.rmcs.bc.ca/events/understanding-senior-pension
 s-oas-and-gis/
UID:urn:uuid:94eada34-71d8-4ad2-b412-be4dc9595182
STATUS:CONFIRMED
ORGANIZER:
DTSTAMP:20260422T084710Z
DTSTART;TZID=America/Vancouver:20230926T103000
DTEND;TZID=America/Vancouver:20230926T120000
LOCATION:CP294 and Zoom
END:VEVENT
END:VCALENDAR