BEGIN:VCALENDAR
METHOD:PUBLISH
VERSION:2.0
CALSCALE:GREGORIAN
PRODID:-//NONSGML WPForms//NONSGML Sugar Calendar Feeds v3.11.0//EN
X-WR-CALNAME:Understanding Personal Income Tax
X-WR-CALDESC:Richmond Multicultural Community Services
X-WR-TIMEZONE:America/Vancouver
BEGIN:VTIMEZONE
TZID:America/Vancouver
BEGIN:STANDARD
TZOFFSETFROM:-0700
TZOFFSETTO:-0800
DTSTART:20211107T090000
TZNAME:PST
END:STANDARD
BEGIN:DAYLIGHT
TZOFFSETFROM:-0800
TZOFFSETTO:-0700
DTSTART:20220313T100000
TZNAME:PDT
END:DAYLIGHT
END:VTIMEZONE
BEGIN:VTIMEZONE
TZID:America/Vancouver
BEGIN:STANDARD
TZOFFSETFROM:-0700
TZOFFSETTO:-0800
DTSTART:20211107T090000
TZNAME:PST
END:STANDARD
BEGIN:DAYLIGHT
TZOFFSETFROM:-0800
TZOFFSETTO:-0700
DTSTART:20220313T100000
TZNAME:PDT
END:DAYLIGHT
END:VTIMEZONE
BEGIN:VEVENT
SUMMARY:Understanding Personal Income Tax
DESCRIPTION:Are you confused about income taxes in Canada? Learn all abo
 ut why you must file your taxes and how to access more help with them. T
 his workshop will take place on Zoom. Please contact Thuy at thuy@rmcs.
 bc.ca or call 604-279-7160 for more information/registration.
URL;VALUE=URI:https://www.rmcs.bc.ca/events/understanding-personal-incom
 e-tax/
UID:urn:uuid:b94de9a0-95c9-4bec-87b5-2df75e9d30b1
STATUS:CONFIRMED
ORGANIZER:
DTSTAMP:20260421T091119Z
DTSTART;TZID=America/Vancouver:20220407T103000
DTEND;TZID=America/Vancouver:20220407T120000
LOCATION:Zoom
END:VEVENT
END:VCALENDAR