BEGIN:VCALENDAR
METHOD:PUBLISH
VERSION:2.0
CALSCALE:GREGORIAN
PRODID:-//NONSGML WPForms//NONSGML Sugar Calendar Feeds v3.11.0//EN
X-WR-CALNAME:Understanding Canadian Income Tax System
X-WR-CALDESC:Richmond Multicultural Community Services
X-WR-TIMEZONE:America/Vancouver
BEGIN:VTIMEZONE
TZID:America/Vancouver
BEGIN:STANDARD
TZOFFSETFROM:-0700
TZOFFSETTO:-0800
DTSTART:20201101T090000
TZNAME:PST
END:STANDARD
END:VTIMEZONE
BEGIN:VTIMEZONE
TZID:America/Vancouver
BEGIN:STANDARD
TZOFFSETFROM:-0700
TZOFFSETTO:-0800
DTSTART:20201101T090000
TZNAME:PST
END:STANDARD
END:VTIMEZONE
BEGIN:VEVENT
SUMMARY:Understanding Canadian Income Tax System
DESCRIPTION:Are you confused about income taxes in Canada? Learn all abo
 ut why you must file your taxes and how to access more help with them.\n
 \nThis workshop will take place on Zoom. Please contact Thuy at thuy@rmc
 s.bc.ca or call 604-279-7160 for more information/registration.
URL;VALUE=URI:https://www.rmcs.bc.ca/events/understanding-canadian-incom
 e-tax-system/
UID:urn:uuid:a9ba0331-d730-4f6f-a273-56a4fa0d3d83
STATUS:CONFIRMED
ORGANIZER:
DTSTAMP:20260419T132643Z
DTSTART;TZID=America/Vancouver:20210209T100000
DTEND;TZID=America/Vancouver:20210209T123000
END:VEVENT
END:VCALENDAR