BEGIN:VCALENDAR
METHOD:PUBLISH
VERSION:2.0
CALSCALE:GREGORIAN
PRODID:-//NONSGML WPForms//NONSGML Sugar Calendar Feeds v3.11.0//EN
X-WR-CALNAME:Understanding Canadian Income Tax System
X-WR-CALDESC:Richmond Multicultural Community Services
X-WR-TIMEZONE:America/Vancouver
BEGIN:VTIMEZONE
TZID:America/Vancouver
BEGIN:STANDARD
TZOFFSETFROM:-0700
TZOFFSETTO:-0800
DTSTART:20211107T090000
TZNAME:PST
END:STANDARD
END:VTIMEZONE
BEGIN:VTIMEZONE
TZID:America/Vancouver
BEGIN:STANDARD
TZOFFSETFROM:-0700
TZOFFSETTO:-0800
DTSTART:20211107T090000
TZNAME:PST
END:STANDARD
END:VTIMEZONE
BEGIN:VEVENT
SUMMARY:Understanding Canadian Income Tax System
DESCRIPTION:Are you confused about income taxes in Canada? Learn all abo
 ut why you must file your taxes and how to access more help with them. T
 his workshop will take place on Zoom. Please contact Thuy at thuy@rmcs.b
 c.ca\, or call 604-279-7160 for registration or more information.
URL;VALUE=URI:https://www.rmcs.bc.ca/events/understanding-canadian-incom
 e-tax-system-2/
UID:urn:uuid:711d3be1-e561-4916-a64d-7619d727a68e
STATUS:CONFIRMED
ORGANIZER:
DTSTAMP:20260423T143224Z
DTSTART;TZID=America/Vancouver:20220222T130000
DTEND;TZID=America/Vancouver:20220222T143000
LOCATION:Zoom
END:VEVENT
END:VCALENDAR