BEGIN:VCALENDAR
METHOD:PUBLISH
VERSION:2.0
CALSCALE:GREGORIAN
PRODID:-//NONSGML WPForms//NONSGML Sugar Calendar Feeds v3.11.0//EN
X-WR-CALNAME:Student Loans and Scholarships
X-WR-CALDESC:Richmond Multicultural Community Services
X-WR-TIMEZONE:America/Vancouver
BEGIN:VTIMEZONE
TZID:America/Vancouver
BEGIN:DAYLIGHT
TZOFFSETFROM:-0800
TZOFFSETTO:-0700
DTSTART:20210314T100000
TZNAME:PDT
END:DAYLIGHT
END:VTIMEZONE
BEGIN:VTIMEZONE
TZID:America/Vancouver
BEGIN:DAYLIGHT
TZOFFSETFROM:-0800
TZOFFSETTO:-0700
DTSTART:20210314T100000
TZNAME:PDT
END:DAYLIGHT
END:VTIMEZONE
BEGIN:VEVENT
SUMMARY:Student Loans and Scholarships
DESCRIPTION:Thinking of going back to school to upgrade your skills? Lea
 rn how to cover the cost of school at this workshop.\n\nThis workshop wi
 ll take place on Zoom. Please contact Thuy at thuy@rmcs.bc.ca or call 60
 4-279-7160.
URL;VALUE=URI:https://www.rmcs.bc.ca/events/student-loans-and-scholarshi
 ps/
UID:urn:uuid:37c7bc7e-09b7-4114-8318-5efcc85b69c4
STATUS:CONFIRMED
ORGANIZER:
DTSTAMP:20260424T063136Z
DTSTART;TZID=America/Vancouver:20210713T103000
DTEND;TZID=America/Vancouver:20210713T120000
LOCATION:Zoom
END:VEVENT
END:VCALENDAR