BEGIN:VCALENDAR
METHOD:PUBLISH
VERSION:2.0
CALSCALE:GREGORIAN
PRODID:-//NONSGML WPForms//NONSGML Sugar Calendar Feeds v3.11.0//EN
X-WR-CALNAME:Strengthening Intercultural Dialogue - A Storytelling and I
 nformation Sharing Event
X-WR-CALDESC:Richmond Multicultural Community Services
X-WR-TIMEZONE:America/Vancouver
BEGIN:VTIMEZONE
TZID:America/Vancouver
BEGIN:DAYLIGHT
TZOFFSETFROM:-0700
TZOFFSETTO:-0700
DTSTART:20240321T053000
TZNAME:PDT
END:DAYLIGHT
END:VTIMEZONE
BEGIN:VTIMEZONE
TZID:America/Vancouver
BEGIN:DAYLIGHT
TZOFFSETFROM:-0700
TZOFFSETTO:-0700
DTSTART:20240321T053000
TZNAME:PDT
END:DAYLIGHT
END:VTIMEZONE
BEGIN:VEVENT
SUMMARY:Strengthening Intercultural Dialogue - A Storytelling and Inform
 ation Sharing Event
DESCRIPTION:Interested in exploring multiculturalism\, diversity\, inter
 sectionality\, personal experiences of racism\, practical solutions for 
 addressing systemic racism\, reconciliation\, community building\, and a
  sense of belonging? Join our free public dialogue featuring performance
  and a panel of BIPOC community leaders discussing these issues from var
 ious perspectives. Share your stories\, brainstorm solutions\, and engag
 e in breakout group dialogues. This workshop will take place at Richmond
  Cultural Centre Performance Hall (7700 Minoru Gate). Please contact Alf
 reda Lam at alfreda.lam@rmcs.bc.ca or call 604-279-7160 for more informa
 tion/registration.
URL;VALUE=URI:https://www.rmcs.bc.ca/events/strengthening-intercultural-
 dialogue-a-storytelling-and-information-sharing-event/
UID:urn:uuid:9719204a-5773-4676-846c-50b4fa491913
STATUS:CONFIRMED
ORGANIZER:
DTSTAMP:20260421T152654Z
DTSTART;TZID=America/Vancouver:20240919T173000
DTEND;TZID=America/Vancouver:20240919T200000
LOCATION:Richmond Cultural Centre Performance Hall (7700 Minoru Gate)
END:VEVENT
END:VCALENDAR