BEGIN:VCALENDAR
METHOD:PUBLISH
VERSION:2.0
CALSCALE:GREGORIAN
PRODID:-//NONSGML WPForms//NONSGML Sugar Calendar Feeds v3.11.0//EN
X-WR-CALNAME:Senior Benefits
X-WR-CALDESC:Richmond Multicultural Community Services
X-WR-TIMEZONE:America/Vancouver
BEGIN:VTIMEZONE
TZID:America/Vancouver
BEGIN:STANDARD
TZOFFSETFROM:-0700
TZOFFSETTO:-0800
DTSTART:20211107T090000
TZNAME:PST
END:STANDARD
BEGIN:DAYLIGHT
TZOFFSETFROM:-0800
TZOFFSETTO:-0700
DTSTART:20220313T100000
TZNAME:PDT
END:DAYLIGHT
END:VTIMEZONE
BEGIN:VTIMEZONE
TZID:America/Vancouver
BEGIN:STANDARD
TZOFFSETFROM:-0700
TZOFFSETTO:-0800
DTSTART:20211107T090000
TZNAME:PST
END:STANDARD
BEGIN:DAYLIGHT
TZOFFSETFROM:-0800
TZOFFSETTO:-0700
DTSTART:20220313T100000
TZNAME:PDT
END:DAYLIGHT
END:VTIMEZONE
BEGIN:VEVENT
SUMMARY:Senior Benefits
DESCRIPTION:Do you have questions about OAS\, and GIS benefits? Come and
  learn about these senior benefits and find out who can qualify. This wo
 rkshop will take place on Zoom. Please contact Xiaowei at xiaowei@rmcs.b
 c.ca or call 604-279-7160 for more information/registration.
URL;VALUE=URI:https://www.rmcs.bc.ca/events/senior-benefits/
UID:urn:uuid:4f795579-a952-4a34-add6-593e70ff8bcb
STATUS:CONFIRMED
ORGANIZER:
DTSTAMP:20260425T021606Z
DTSTART;TZID=America/Vancouver:20220420T103000
DTEND;TZID=America/Vancouver:20220420T120000
LOCATION:Zoom
END:VEVENT
END:VCALENDAR