BEGIN:VCALENDAR
METHOD:PUBLISH
VERSION:2.0
CALSCALE:GREGORIAN
PRODID:-//NONSGML WPForms//NONSGML Sugar Calendar Feeds v3.11.0//EN
X-WR-CALNAME:Self-Management for Seniors
X-WR-CALDESC:Richmond Multicultural Community Services
X-WR-TIMEZONE:America/Vancouver
BEGIN:VTIMEZONE
TZID:America/Vancouver
BEGIN:DAYLIGHT
TZOFFSETFROM:-0700
TZOFFSETTO:-0700
DTSTART:20230426T010000
TZNAME:PDT
END:DAYLIGHT
END:VTIMEZONE
BEGIN:VTIMEZONE
TZID:America/Vancouver
BEGIN:DAYLIGHT
TZOFFSETFROM:-0700
TZOFFSETTO:-0700
DTSTART:20230426T010000
TZNAME:PDT
END:DAYLIGHT
END:VTIMEZONE
BEGIN:VEVENT
SUMMARY:Self-Management for Seniors
DESCRIPTION:Are you a Senior? How do you take care of yourself? How do y
 ou deal with chronic conditions\, chronic pains\, diabetic….Come and j
 oin this workshop to learn how to take care of yourself. This workshop w
 ill take place in Richmond Caring Place Room 345/50. Please contact Satn
 am at satnam@rmcs.bc.ca or call 604-279-7160 for more information/regist
 ration.
URL;VALUE=URI:https://www.rmcs.bc.ca/events/self-management-for-seniors/
UID:urn:uuid:5a7db01e-e6a1-4fc6-a80b-0402361e265b
STATUS:CONFIRMED
ORGANIZER:
DTSTAMP:20260419T195351Z
DTSTART;TZID=America/Vancouver:20231025T130000
DTEND;TZID=America/Vancouver:20231025T140000
LOCATION:CP345/50
END:VEVENT
END:VCALENDAR