BEGIN:VCALENDAR
METHOD:PUBLISH
VERSION:2.0
CALSCALE:GREGORIAN
PRODID:-//NONSGML WPForms//NONSGML Sugar Calendar Feeds v3.11.0//EN
X-WR-CALNAME:RMCS 3rd Annual Bottle Drive
X-WR-CALDESC:Richmond Multicultural Community Services
X-WR-TIMEZONE:America/Vancouver
BEGIN:VTIMEZONE
TZID:America/Vancouver
BEGIN:DAYLIGHT
TZOFFSETFROM:-0800
TZOFFSETTO:-0700
DTSTART:20220313T100000
TZNAME:PDT
END:DAYLIGHT
END:VTIMEZONE
BEGIN:VTIMEZONE
TZID:America/Vancouver
BEGIN:DAYLIGHT
TZOFFSETFROM:-0800
TZOFFSETTO:-0700
DTSTART:20220313T100000
TZNAME:PDT
END:DAYLIGHT
END:VTIMEZONE
BEGIN:VEVENT
SUMMARY:RMCS 3rd Annual Bottle Drive
DESCRIPTION:Drop your bottles off on June 18 to support our bottle drive
  fundraiser. Your donation helps the work we do with newcomers\, our ini
 tiatives combatting racism\, and our vision for a harmonious and inclusi
 ve society. If you prefer you can return your bottles to any Return-it E
 xpress location at your convenience and donate the proceeds to RMCS. Her
 e’s how: At the express kiosk in the depot\, enter our phone number 60
 4-279-7160. Print your labels and put them on your bags (each bag needs 
 one label) and leave them at the drop-off area. Here are the express dep
 ots in Richmond: OK Bottle Depot #145-5751 Cedarbridge Way Richmond Retu
 rn-It Centre #135\, 8171 Westminster Highway Blundell Return-It Centre #
 130-8180 No. 2 Road Ironwood Bottle Depot #110 - 11020 Horseshoe Way You
  can also contact us at info@rmcs.bc.ca or 604-279-7160 for alternative 
 drop off/pick up options. If you don’t have any bottles but want to do
 nate you can do so through the below http://www.rmcs.bc.ca/
URL;VALUE=URI:https://www.rmcs.bc.ca/events/rmcs-3rd-annual-bottle-drive
 /
UID:urn:uuid:61ee2ace-32a9-42b4-a42d-fc6a315f33a4
STATUS:CONFIRMED
ORGANIZER:
DTSTAMP:20260421T144723Z
DTSTART;TZID=America/Vancouver:20220618T110000
DTEND;TZID=America/Vancouver:20220618T140000
LOCATION:Richmond Caring Place Parking Lot (Minoru Side)
END:VEVENT
END:VCALENDAR