BEGIN:VCALENDAR
METHOD:PUBLISH
VERSION:2.0
CALSCALE:GREGORIAN
PRODID:-//NONSGML WPForms//NONSGML Sugar Calendar Feeds v3.11.0//EN
X-WR-CALNAME:Recreation Activities and Subsidy Benefits
X-WR-CALDESC:Richmond Multicultural Community Services
X-WR-TIMEZONE:America/Vancouver
BEGIN:VTIMEZONE
TZID:America/Vancouver
BEGIN:DAYLIGHT
TZOFFSETFROM:-0800
TZOFFSETTO:-0700
DTSTART:20240310T100000
TZNAME:PDT
END:DAYLIGHT
END:VTIMEZONE
BEGIN:VTIMEZONE
TZID:America/Vancouver
BEGIN:DAYLIGHT
TZOFFSETFROM:-0800
TZOFFSETTO:-0700
DTSTART:20240310T100000
TZNAME:PDT
END:DAYLIGHT
END:VTIMEZONE
BEGIN:VEVENT
SUMMARY:Recreation Activities and Subsidy Benefits
DESCRIPTION:Do you want to know what is Recreation activities available 
 for you and your family? join this workshop to learn more about recreati
 onal activities and how to apply for subsidy benefits.\n\nThis workshop 
 will take place on CP320 and Zoom (Hybrid). Please contact Thuy at thuy@
 rmcs.bc.ca or call 604-279-7160 for more information/registration.\n\n&
 nbsp\;
URL;VALUE=URI:https://www.rmcs.bc.ca/events/recreation-activities-and-su
 bsidy-benefits-2/
UID:urn:uuid:b30ccd6f-e9fb-427b-a906-b7f99480e83f
STATUS:CONFIRMED
ORGANIZER:
DTSTAMP:20260422T173901Z
DTSTART;TZID=America/Vancouver:20240529T103000
DTEND;TZID=America/Vancouver:20240529T120000
LOCATION:CP320 and Zoom
END:VEVENT
END:VCALENDAR