BEGIN:VCALENDAR
METHOD:PUBLISH
VERSION:2.0
CALSCALE:GREGORIAN
PRODID:-//NONSGML WPForms//NONSGML Sugar Calendar Feeds v3.11.0//EN
X-WR-CALNAME:Professionals Networking Circle
X-WR-CALDESC:Richmond Multicultural Community Services
X-WR-TIMEZONE:America/Vancouver
BEGIN:VTIMEZONE
TZID:America/Vancouver
BEGIN:STANDARD
TZOFFSETFROM:-0700
TZOFFSETTO:-0800
DTSTART:20211107T090000
TZNAME:PST
END:STANDARD
END:VTIMEZONE
BEGIN:VTIMEZONE
TZID:America/Vancouver
BEGIN:STANDARD
TZOFFSETFROM:-0700
TZOFFSETTO:-0800
DTSTART:20211107T090000
TZNAME:PST
END:STANDARD
END:VTIMEZONE
BEGIN:VEVENT
SUMMARY:Professionals Networking Circle
DESCRIPTION:Register to be a part of this circle to meet and learn from 
 each other’s experiences. This is a professional development opportuni
 ty to learn how to plan your own career in Canada. This workshop will t
 ake place on Zoom. Please contact Bhavana at bhavana@rmcs.bc.ca or cal
 l 604-279-7160 for more information/registration.
URL;VALUE=URI:https://www.rmcs.bc.ca/events/professionals-networking-cir
 cle-10/
UID:urn:uuid:4d16ba69-3452-479e-a2a7-869c992b9d08
STATUS:CONFIRMED
ORGANIZER:
DTSTAMP:20260425T161622Z
DTSTART;TZID=America/Vancouver:20211217T140000
DTEND;TZID=America/Vancouver:20211217T160000
END:VEVENT
END:VCALENDAR