BEGIN:VCALENDAR
METHOD:PUBLISH
VERSION:2.0
CALSCALE:GREGORIAN
PRODID:-//NONSGML WPForms//NONSGML Sugar Calendar Feeds v3.11.0//EN
X-WR-CALNAME:Parenting in Canada
X-WR-CALDESC:Richmond Multicultural Community Services
X-WR-TIMEZONE:America/Vancouver
BEGIN:VTIMEZONE
TZID:America/Vancouver
BEGIN:DAYLIGHT
TZOFFSETFROM:-0800
TZOFFSETTO:-0700
DTSTART:20220313T100000
TZNAME:PDT
END:DAYLIGHT
END:VTIMEZONE
BEGIN:VTIMEZONE
TZID:America/Vancouver
BEGIN:DAYLIGHT
TZOFFSETFROM:-0800
TZOFFSETTO:-0700
DTSTART:20220313T100000
TZNAME:PDT
END:DAYLIGHT
END:VTIMEZONE
BEGIN:VEVENT
SUMMARY:Parenting in Canada
DESCRIPTION:Do you want to learn about parenting in Canada? come and joi
 n this workshop to learn more about how to parent effectively.\n\nThis w
 orkshop will take place CP345/50 and Zoom (Hybrid). Please contact info@
 rmcs.bc.ca or call 604-279-7160 for more information/registration.
URL;VALUE=URI:https://www.rmcs.bc.ca/events/parenting-in-canada-2/
UID:urn:uuid:7264669a-e5e4-42ff-9c71-95d78c592b85
STATUS:CONFIRMED
ORGANIZER:
DTSTAMP:20260422T211950Z
DTSTART;TZID=America/Vancouver:20220823T103000
DTEND;TZID=America/Vancouver:20220823T120000
LOCATION:CP294 and Zoom
END:VEVENT
END:VCALENDAR