BEGIN:VCALENDAR
METHOD:PUBLISH
VERSION:2.0
CALSCALE:GREGORIAN
PRODID:-//NONSGML WPForms//NONSGML Sugar Calendar Feeds v3.11.0//EN
X-WR-CALNAME:Outdoor Winter Activities for Seniors
X-WR-CALDESC:Richmond Multicultural Community Services
X-WR-TIMEZONE:America/Vancouver
BEGIN:VTIMEZONE
TZID:America/Vancouver
BEGIN:STANDARD
TZOFFSETFROM:-0700
TZOFFSETTO:-0800
DTSTART:20211107T090000
TZNAME:PST
END:STANDARD
END:VTIMEZONE
BEGIN:VTIMEZONE
TZID:America/Vancouver
BEGIN:STANDARD
TZOFFSETFROM:-0700
TZOFFSETTO:-0800
DTSTART:20211107T090000
TZNAME:PST
END:STANDARD
END:VTIMEZONE
BEGIN:VEVENT
SUMMARY:Outdoor Winter Activities for Seniors
DESCRIPTION:This workshop will take place on our Facebook RMCS Settlers 
 Group and there are only TWO steps to join RMCS Settlers group to watch 
 our FREE workshops\;\n\n1) Simply\, “like” our Facebook and\;\n\n2
 ) You can find “RMCS Settlers” under “group”. Answer the two que
 stions\, press “join” and you are set!\n\nPlease join us at RMCS Set
 tlers group for more timely information!
URL;VALUE=URI:https://www.rmcs.bc.ca/events/outdoor-winter-activities-fo
 r-seniors/
UID:urn:uuid:de3fc21c-1bcb-4bb1-bc65-454801968bde
STATUS:CONFIRMED
ORGANIZER:
DTSTAMP:20260424T101601Z
DTSTART;TZID=America/Vancouver:20211125T110000
DTEND;TZID=America/Vancouver:20211125T113000
LOCATION:Facebook RMCS Settlers
END:VEVENT
END:VCALENDAR