BEGIN:VCALENDAR
METHOD:PUBLISH
VERSION:2.0
CALSCALE:GREGORIAN
PRODID:-//NONSGML WPForms//NONSGML Sugar Calendar Feeds v3.11.0//EN
X-WR-CALNAME:Online Connections For Seniors
X-WR-CALDESC:Richmond Multicultural Community Services
X-WR-TIMEZONE:America/Vancouver
BEGIN:VTIMEZONE
TZID:America/Vancouver
BEGIN:STANDARD
TZOFFSETFROM:-0700
TZOFFSETTO:-0800
DTSTART:20211107T090000
TZNAME:PST
END:STANDARD
BEGIN:DAYLIGHT
TZOFFSETFROM:-0800
TZOFFSETTO:-0700
DTSTART:20220313T100000
TZNAME:PDT
END:DAYLIGHT
END:VTIMEZONE
BEGIN:VTIMEZONE
TZID:America/Vancouver
BEGIN:STANDARD
TZOFFSETFROM:-0700
TZOFFSETTO:-0800
DTSTART:20211107T090000
TZNAME:PST
END:STANDARD
BEGIN:DAYLIGHT
TZOFFSETFROM:-0800
TZOFFSETTO:-0700
DTSTART:20220313T100000
TZNAME:PDT
END:DAYLIGHT
END:VTIMEZONE
BEGIN:VEVENT
SUMMARY:Online Connections For Seniors
DESCRIPTION:Are you a Seniors and want to connect with family and friend
 s through social media? Join us to learn more about how to use email\, t
 he internet\, and social media. This workshop will take place on Zoom. P
 lease contact Neena at neena@rmcs.bc.ca or call 604-279-7160 for more in
 formation/registration.
URL;VALUE=URI:https://www.rmcs.bc.ca/events/online-connections-for-senio
 rs/
UID:urn:uuid:196c502d-d54c-4946-adb8-a54078507faa
STATUS:CONFIRMED
ORGANIZER:
DTSTAMP:20260422T023125Z
DTSTART;TZID=America/Vancouver:20220426T103000
DTEND;TZID=America/Vancouver:20220426T120000
LOCATION:Zoom
END:VEVENT
END:VCALENDAR