BEGIN:VCALENDAR
METHOD:PUBLISH
VERSION:2.0
CALSCALE:GREGORIAN
PRODID:-//NONSGML WPForms//NONSGML Sugar Calendar Feeds v3.11.0//EN
X-WR-CALNAME:Online Connections for Seniors
X-WR-CALDESC:Richmond Multicultural Community Services
X-WR-TIMEZONE:America/Vancouver
BEGIN:VTIMEZONE
TZID:America/Vancouver
BEGIN:STANDARD
TZOFFSETFROM:-0700
TZOFFSETTO:-0800
DTSTART:20241103T090000
TZNAME:PST
END:STANDARD
END:VTIMEZONE
BEGIN:VTIMEZONE
TZID:America/Vancouver
BEGIN:STANDARD
TZOFFSETFROM:-0700
TZOFFSETTO:-0800
DTSTART:20241103T090000
TZNAME:PST
END:STANDARD
END:VTIMEZONE
BEGIN:VEVENT
SUMMARY:Online Connections for Seniors
DESCRIPTION:Are you a senior and want to know more about social media? c
 ome and join this workshop to learn more about Facebook\, Twitter\, Inst
 agram\, etc. This workshop will take place at Richmond Caring Place Room
  210 and Zoom (hybrid). Please contact Nikhat at nikhat.qureshi@rmcs.bc.
 ca or call 604-279-7160 for more information/registration.
URL;VALUE=URI:https://www.rmcs.bc.ca/events/online-connections-for-senio
 rs-3-2-2-2-2-2-2-2-2-2-2-2-2-2-2-2-2-2-2-2-2-3-2-2-2-2-2-2-2-2-2/
UID:urn:uuid:93d1d2e8-b29b-422a-bd6f-05d1665ecc58
STATUS:CONFIRMED
ORGANIZER:
DTSTAMP:20260420T113928Z
DTSTART;TZID=America/Vancouver:20250301T100000
DTEND;TZID=America/Vancouver:20250301T120000
RRULE:FREQ=WEEKLY;INTERVAL=1;UNTIL=20250329T235959Z
LOCATION:CP210 and Zoom
END:VEVENT
END:VCALENDAR