BEGIN:VCALENDAR
METHOD:PUBLISH
VERSION:2.0
CALSCALE:GREGORIAN
PRODID:-//NONSGML WPForms//NONSGML Sugar Calendar Feeds v3.11.0//EN
X-WR-CALNAME:Nutrition for Seniors
X-WR-CALDESC:Richmond Multicultural Community Services
X-WR-TIMEZONE:America/Vancouver
BEGIN:VTIMEZONE
TZID:America/Vancouver
BEGIN:DAYLIGHT
TZOFFSETFROM:-0700
TZOFFSETTO:-0700
DTSTART:20230430T223000
TZNAME:PDT
END:DAYLIGHT
END:VTIMEZONE
BEGIN:VTIMEZONE
TZID:America/Vancouver
BEGIN:DAYLIGHT
TZOFFSETFROM:-0700
TZOFFSETTO:-0700
DTSTART:20230430T223000
TZNAME:PDT
END:DAYLIGHT
END:VTIMEZONE
BEGIN:VEVENT
SUMMARY:Nutrition for Seniors
DESCRIPTION:Learn about healthy foods and healthy eating habits. Come an
 d learn about the Canadian Food Guide.\n\nThis workshop will take place 
 at Richmond Caring Place Room 294 and Zoom (Hybrid). Please contact Xiao
 wei at xiaowei@rmcs.bc.ca or call 604-279-7160 for more information/regi
 stration.
URL;VALUE=URI:https://www.rmcs.bc.ca/events/nutrition-for-seniors-2-2/
UID:urn:uuid:c43b1bd1-a95b-42c2-9041-0e5ebbdec349
STATUS:CONFIRMED
ORGANIZER:
DTSTAMP:20260425T115922Z
DTSTART;TZID=America/Vancouver:20231030T103000
DTEND;TZID=America/Vancouver:20231030T120000
LOCATION:CP294 and Zoom
END:VEVENT
END:VCALENDAR