BEGIN:VCALENDAR
METHOD:PUBLISH
VERSION:2.0
CALSCALE:GREGORIAN
PRODID:-//NONSGML WPForms//NONSGML Sugar Calendar Feeds v3.11.0//EN
X-WR-CALNAME:Newcomer-Networking-Group
X-WR-CALDESC:Richmond Multicultural Community Services
X-WR-TIMEZONE:America/Vancouver
BEGIN:VTIMEZONE
TZID:America/Vancouver
BEGIN:STANDARD
TZOFFSETFROM:-0700
TZOFFSETTO:-0800
DTSTART:20211107T090000
TZNAME:PST
END:STANDARD
BEGIN:DAYLIGHT
TZOFFSETFROM:-0800
TZOFFSETTO:-0700
DTSTART:20220313T100000
TZNAME:PDT
END:DAYLIGHT
END:VTIMEZONE
BEGIN:VTIMEZONE
TZID:America/Vancouver
BEGIN:STANDARD
TZOFFSETFROM:-0700
TZOFFSETTO:-0800
DTSTART:20211107T090000
TZNAME:PST
END:STANDARD
BEGIN:DAYLIGHT
TZOFFSETFROM:-0800
TZOFFSETTO:-0700
DTSTART:20220313T100000
TZNAME:PDT
END:DAYLIGHT
END:VTIMEZONE
BEGIN:VEVENT
SUMMARY:Newcomer Networking Group
DESCRIPTION:Are you a newcomer and want to make friends? This group shar
 es information\, learns English and discusses settlement and employment 
 issues. Join and find out other things you can also learn! This workshop
  will take place on CP320 and Zoom (Hybrid). Please contact Thuy at thuy
 @rmcs.bc.ca or call 604-279-7160 for registration or more information.
URL;VALUE=URI:https://www.rmcs.bc.ca/sc_recurring_event/newcomer-network
 ing-group/
UID:urn:uuid:1c52ecab-0954-4ce9-9f93-f504565d1cbc
STATUS:CONFIRMED
ORGANIZER:
DTSTAMP:20260419T172551Z
DTSTART;TZID=America/Vancouver:20220317T130000
DTEND;TZID=America/Vancouver:20220317T140000
RRULE:FREQ=MONTHLY;INTERVAL=1;UNTIL=20220930T235959Z
LOCATION:CP320 and Zoom
END:VEVENT
END:VCALENDAR