BEGIN:VCALENDAR
METHOD:PUBLISH
VERSION:2.0
CALSCALE:GREGORIAN
PRODID:-//NONSGML WPForms//NONSGML Sugar Calendar Feeds v3.11.0//EN
X-WR-CALNAME:Mentorship Roundtable
X-WR-CALDESC:Richmond Multicultural Community Services
X-WR-TIMEZONE:America/Vancouver
BEGIN:VTIMEZONE
TZID:America/Vancouver
BEGIN:STANDARD
TZOFFSETFROM:-0700
TZOFFSETTO:-0800
DTSTART:20211107T090000
TZNAME:PST
END:STANDARD
BEGIN:DAYLIGHT
TZOFFSETFROM:-0800
TZOFFSETTO:-0700
DTSTART:20220313T100000
TZNAME:PDT
END:DAYLIGHT
END:VTIMEZONE
BEGIN:VTIMEZONE
TZID:America/Vancouver
BEGIN:STANDARD
TZOFFSETFROM:-0700
TZOFFSETTO:-0800
DTSTART:20211107T090000
TZNAME:PST
END:STANDARD
BEGIN:DAYLIGHT
TZOFFSETFROM:-0800
TZOFFSETTO:-0700
DTSTART:20220313T100000
TZNAME:PDT
END:DAYLIGHT
END:VTIMEZONE
BEGIN:VEVENT
SUMMARY:Mentorship Roundtable
DESCRIPTION:We will have mentors in HR who will share their tips\, trick
 s\, and insights on How To "Kill It" at Your Next Job Interview followed
  by a roundtable of mock interviews. This workshop will take place on Zo
 om. Please contact Bhavana at bhavana@rmcs.bc.ca or Desiree at desiree@r
 mcs.bc.ca. Alternatively\, you can also call 604-279-7160 for more infor
 mation/registration.
URL;VALUE=URI:https://www.rmcs.bc.ca/events/mentorship-roundtable/
UID:urn:uuid:b64078fe-dcac-41f1-a298-ad04a7be8e0b
STATUS:CONFIRMED
ORGANIZER:
DTSTAMP:20260422T023834Z
DTSTART;TZID=America/Vancouver:20220422T103000
DTEND;TZID=America/Vancouver:20220422T103000
LOCATION:Zoom
END:VEVENT
END:VCALENDAR