BEGIN:VCALENDAR
METHOD:PUBLISH
VERSION:2.0
CALSCALE:GREGORIAN
PRODID:-//NONSGML WPForms//NONSGML Sugar Calendar Feeds v3.11.0//EN
X-WR-CALNAME:LGBTQ2S+ Community Support Group
X-WR-CALDESC:Richmond Multicultural Community Services
X-WR-TIMEZONE:America/Vancouver
BEGIN:VTIMEZONE
TZID:America/Vancouver
BEGIN:STANDARD
TZOFFSETFROM:-0700
TZOFFSETTO:-0800
DTSTART:20231105T090000
TZNAME:PST
END:STANDARD
END:VTIMEZONE
BEGIN:VTIMEZONE
TZID:America/Vancouver
BEGIN:STANDARD
TZOFFSETFROM:-0700
TZOFFSETTO:-0800
DTSTART:20231105T090000
TZNAME:PST
END:STANDARD
END:VTIMEZONE
BEGIN:VEVENT
SUMMARY:LGBTQ2S+ Community Support Group
DESCRIPTION:LGBTQ2S+ support group offers community connections between 
 LGBTQ2S+ members\, activities to educate about LGBTQ2S+ rights\, and sup
 port for well-being. This support group will take place on Zoom. Please 
 contact Martin at martin@rmcs.bc.ca\, or call 604-279-7160 for registrat
 ion or more information.\n\n&nbsp\;
URL;VALUE=URI:https://www.rmcs.bc.ca/events/lgbtq2s-community-workshop-2
 -2-3/
UID:urn:uuid:33445c33-bea6-4735-a753-f94fa24224cc
STATUS:CONFIRMED
ORGANIZER:
DTSTAMP:20260420T205613Z
DTSTART;TZID=America/Vancouver:20240111T170000
DTEND;TZID=America/Vancouver:20240111T180000
RRULE:FREQ=WEEKLY;INTERVAL=2;UNTIL=20240126T235959Z
LOCATION:Zoom
END:VEVENT
END:VCALENDAR