BEGIN:VCALENDAR
METHOD:PUBLISH
VERSION:2.0
CALSCALE:GREGORIAN
PRODID:-//NONSGML WPForms//NONSGML Sugar Calendar Feeds v3.11.0//EN
X-WR-CALNAME:Korean Networking Group
X-WR-CALDESC:Richmond Multicultural Community Services
X-WR-TIMEZONE:America/Vancouver
BEGIN:VTIMEZONE
TZID:America/Vancouver
BEGIN:DAYLIGHT
TZOFFSETFROM:-0700
TZOFFSETTO:-0700
DTSTART:20230403T223000
TZNAME:PDT
END:DAYLIGHT
END:VTIMEZONE
BEGIN:VTIMEZONE
TZID:America/Vancouver
BEGIN:DAYLIGHT
TZOFFSETFROM:-0700
TZOFFSETTO:-0700
DTSTART:20230403T223000
TZNAME:PDT
END:DAYLIGHT
END:VTIMEZONE
BEGIN:VEVENT
SUMMARY:Korean Networking Group
DESCRIPTION:Do you want to increase your social and community connection
 s? Join other Koreans to gain confidence and make friends. This workshop
  will take place in Richmond Caring Place Room 340 and Zoom (Hybrid). Pl
 ease contact Joanna at joanna@rmcs.bc.ca\, or call 604-279-7160 for regi
 stration or more information.\n\n&nbsp\;
URL;VALUE=URI:https://www.rmcs.bc.ca/events/korean-networking-group-4/
UID:urn:uuid:1cf32168-8248-450f-8245-6d84c550c820
STATUS:CONFIRMED
ORGANIZER:
DTSTAMP:20260425T102308Z
DTSTART;TZID=America/Vancouver:20231003T103000
DTEND;TZID=America/Vancouver:20231003T120000
LOCATION:CP340 and Zoom
END:VEVENT
END:VCALENDAR