BEGIN:VCALENDAR
METHOD:PUBLISH
VERSION:2.0
CALSCALE:GREGORIAN
PRODID:-//NONSGML WPForms//NONSGML Sugar Calendar Feeds v3.11.0//EN
X-WR-CALNAME:Job-Talk-Circle
X-WR-CALDESC:Richmond Multicultural Community Services
X-WR-TIMEZONE:America/Vancouver
BEGIN:VTIMEZONE
TZID:America/Vancouver
BEGIN:STANDARD
TZOFFSETFROM:-0700
TZOFFSETTO:-0800
DTSTART:20231105T090000
TZNAME:PST
END:STANDARD
END:VTIMEZONE
BEGIN:VTIMEZONE
TZID:America/Vancouver
BEGIN:STANDARD
TZOFFSETFROM:-0700
TZOFFSETTO:-0800
DTSTART:20231105T090000
TZNAME:PST
END:STANDARD
END:VTIMEZONE
BEGIN:VEVENT
SUMMARY:Job Talk Circle
DESCRIPTION:Do you want to learn English for the workplace? This group h
 elps you to improve your English\, connect with other job seekers\, and 
 gain support to find work.\n\nThis workshop will take place in Richmond 
 Caring Place and Zoom (Hybrid). Please contact Bhavana at bhavana@rmcs.b
 c.ca or call 604-279-7160 for more information/registration.\n\n&nbsp\;
URL;VALUE=URI:https://www.rmcs.bc.ca/sc_recurring_event/job-talk-circle-
 14-2/
UID:urn:uuid:ee08ddfe-5ffc-4da5-91e7-52ae48cd48fb
STATUS:CONFIRMED
ORGANIZER:
DTSTAMP:20260421T094742Z
DTSTART;TZID=America/Vancouver:20240125T103000
DTEND;TZID=America/Vancouver:20240125T120000
RRULE:FREQ=MONTHLY;INTERVAL=1;UNTIL=20240130T235959Z
END:VEVENT
END:VCALENDAR