BEGIN:VCALENDAR
METHOD:PUBLISH
VERSION:2.0
CALSCALE:GREGORIAN
PRODID:-//NONSGML WPForms//NONSGML Sugar Calendar Feeds v3.11.0//EN
X-WR-CALNAME:Intergenerational Communication
X-WR-CALDESC:Richmond Multicultural Community Services
X-WR-TIMEZONE:America/Vancouver
BEGIN:VTIMEZONE
TZID:America/Vancouver
BEGIN:STANDARD
TZOFFSETFROM:-0700
TZOFFSETTO:-0800
DTSTART:20231105T090000
TZNAME:PST
END:STANDARD
BEGIN:DAYLIGHT
TZOFFSETFROM:-0800
TZOFFSETTO:-0700
DTSTART:20240310T100000
TZNAME:PDT
END:DAYLIGHT
END:VTIMEZONE
BEGIN:VTIMEZONE
TZID:America/Vancouver
BEGIN:STANDARD
TZOFFSETFROM:-0700
TZOFFSETTO:-0800
DTSTART:20231105T090000
TZNAME:PST
END:STANDARD
BEGIN:DAYLIGHT
TZOFFSETFROM:-0800
TZOFFSETTO:-0700
DTSTART:20240310T100000
TZNAME:PDT
END:DAYLIGHT
END:VTIMEZONE
BEGIN:VEVENT
SUMMARY:Intergenerational Communication
DESCRIPTION:Do you want to understand and communicate effectively betwee
 n generations? Join this workshop to learn about intergeneration communi
 cation.\nThis workshop will take place in Richmond Caring Place Room 345
 /50 and Zoom (Hybrid). One-on-one support is available every week. To bo
 ok the appointment and enroll in the workshop\, please contact Nikhat at
  nikhat@rmcs.bc.ca or call 604-279-7160 for more information/registratio
 n.
URL;VALUE=URI:https://www.rmcs.bc.ca/events/intergenerational-communicat
 ion-4-2-2-2-2-2-2-2-2-2-2-2/
UID:urn:uuid:23685c1d-2903-4dba-8848-69683978905c
STATUS:CONFIRMED
ORGANIZER:
DTSTAMP:20260423T105400Z
DTSTART;TZID=America/Vancouver:20240321T130000
DTEND;TZID=America/Vancouver:20240321T140000
LOCATION:CP345/50 and Zoom
END:VEVENT
END:VCALENDAR