BEGIN:VCALENDAR
METHOD:PUBLISH
VERSION:2.0
CALSCALE:GREGORIAN
PRODID:-//NONSGML WPForms//NONSGML Sugar Calendar Feeds v3.11.0//EN
X-WR-CALNAME:How to Prepare for Your Citizenship Application Form
X-WR-CALDESC:Richmond Multicultural Community Services
X-WR-TIMEZONE:America/Vancouver
BEGIN:VTIMEZONE
TZID:America/Vancouver
BEGIN:DAYLIGHT
TZOFFSETFROM:-0700
TZOFFSETTO:-0700
DTSTART:20230424T223000
TZNAME:PDT
END:DAYLIGHT
END:VTIMEZONE
BEGIN:VTIMEZONE
TZID:America/Vancouver
BEGIN:DAYLIGHT
TZOFFSETFROM:-0700
TZOFFSETTO:-0700
DTSTART:20230424T223000
TZNAME:PDT
END:DAYLIGHT
END:VTIMEZONE
BEGIN:VEVENT
SUMMARY:How to Prepare for Your Citizenship Application Form
DESCRIPTION:Could you use some extra tips for the Canadian Citizenship A
 pplication? Learn how to fill out the citizenship application form. We w
 ill answer questions and guide you through the process of applying. This
  workshop will take place in Richmond Caring Place Room 294 and Zoom (Hy
 brid). Please contact Xiaowei at xiaowei@rmcs.bc.ca\, or call 604-279-71
 60 for registration or more information.\n\n&nbsp\;
URL;VALUE=URI:https://www.rmcs.bc.ca/events/how-to-prepare-for-your-citi
 zenship-application-form/
UID:urn:uuid:4ae4539b-1b61-47a4-a272-618df91c503a
STATUS:CONFIRMED
ORGANIZER:
DTSTAMP:20260423T123424Z
DTSTART;TZID=America/Vancouver:20231024T103000
DTEND;TZID=America/Vancouver:20231024T120000
LOCATION:CP294 and Zoom
END:VEVENT
END:VCALENDAR