BEGIN:VCALENDAR
METHOD:PUBLISH
VERSION:2.0
CALSCALE:GREGORIAN
PRODID:-//NONSGML WPForms//NONSGML Sugar Calendar Feeds v3.11.0//EN
X-WR-CALNAME:How to Become PR Through BCPNP
X-WR-CALDESC:Richmond Multicultural Community Services
X-WR-TIMEZONE:America/Vancouver
BEGIN:VTIMEZONE
TZID:America/Vancouver
BEGIN:STANDARD
TZOFFSETFROM:-0700
TZOFFSETTO:-0800
DTSTART:20231105T090000
TZNAME:PST
END:STANDARD
END:VTIMEZONE
BEGIN:VTIMEZONE
TZID:America/Vancouver
BEGIN:STANDARD
TZOFFSETFROM:-0700
TZOFFSETTO:-0800
DTSTART:20231105T090000
TZNAME:PST
END:STANDARD
END:VTIMEZONE
BEGIN:VEVENT
SUMMARY:How to Become PR Through BCPNP
DESCRIPTION:Do you want to apply for Permanent Resident Status? Come and
  join this workshop to find out if you are qualifying for the PR require
 ment and how to apply. This workshop will take place in Richmond Caring 
 Place Room 294. Please contact Joanna at joanna@rmcs.bc.ca\, or call 604
 -279-7160 for registration or more information.
URL;VALUE=URI:https://www.rmcs.bc.ca/events/how-to-become-pr-through-bcp
 np/
UID:urn:uuid:f1ccf5dd-e315-49d6-b7d7-1b0539076ff7
STATUS:CONFIRMED
ORGANIZER:
DTSTAMP:20260423T092723Z
DTSTART;TZID=America/Vancouver:20240224T103000
DTEND;TZID=America/Vancouver:20240224T103000
LOCATION:CP294
END:VEVENT
END:VCALENDAR