BEGIN:VCALENDAR
METHOD:PUBLISH
VERSION:2.0
CALSCALE:GREGORIAN
PRODID:-//NONSGML WPForms//NONSGML Sugar Calendar Feeds v3.11.0//EN
X-WR-CALNAME:Recruiter Info-session: Meet the Recruiters
X-WR-CALDESC:Richmond Multicultural Community Services
X-WR-TIMEZONE:America/Vancouver
BEGIN:VTIMEZONE
TZID:America/Vancouver
BEGIN:DAYLIGHT
TZOFFSETFROM:-0800
TZOFFSETTO:-0700
DTSTART:20240310T100000
TZNAME:PDT
END:DAYLIGHT
END:VTIMEZONE
BEGIN:VTIMEZONE
TZID:America/Vancouver
BEGIN:DAYLIGHT
TZOFFSETFROM:-0800
TZOFFSETTO:-0700
DTSTART:20240310T100000
TZNAME:PDT
END:DAYLIGHT
END:VTIMEZONE
BEGIN:VEVENT
SUMMARY:Recruiter Info-session: Meet the Recruiters
DESCRIPTION:Three recruiters\, each specializing in different industries
 \, will share information about their industries\, their processes\, uni
 que strengths\, job categories\, employment structures\, and more. Come 
 and meet the recruiters to understand what this means for you and your f
 uture prospects. Don't miss this opportunity to gain valuable industry k
 nowledge and make meaningful connections!\n\nThis workshop will take pla
 ce at Richmond Public Library Brighouse Branch. Please contact Bhavana (
 bhavana@rmcs.bc.ca)\, Desiree (desiree@rmcs.bc.ca) or Grace (grace@rmcs.
 bc.ca) or call 604-279-7160 for more information/registration.
URL;VALUE=URI:https://www.rmcs.bc.ca/events/hiring-fair-6-2-3-2/
UID:urn:uuid:591a26f0-27aa-465e-b3bd-7a667878a7b4
STATUS:CONFIRMED
ORGANIZER:
DTSTAMP:20260424T121510Z
DTSTART;TZID=America/Vancouver:20240516T130000
DTEND;TZID=America/Vancouver:20240516T160000
LOCATION:CP294
END:VEVENT
END:VCALENDAR