BEGIN:VCALENDAR
METHOD:PUBLISH
VERSION:2.0
CALSCALE:GREGORIAN
PRODID:-//NONSGML WPForms//NONSGML Sugar Calendar Feeds v3.11.0//EN
X-WR-CALNAME:Healthy Lunch Ideas For Kids
X-WR-CALDESC:Richmond Multicultural Community Services
X-WR-TIMEZONE:America/Vancouver
BEGIN:VTIMEZONE
TZID:America/Vancouver
BEGIN:DAYLIGHT
TZOFFSETFROM:-0700
TZOFFSETTO:-0700
DTSTART:20210414T230000
TZNAME:PDT
END:DAYLIGHT
END:VTIMEZONE
BEGIN:VTIMEZONE
TZID:America/Vancouver
BEGIN:DAYLIGHT
TZOFFSETFROM:-0700
TZOFFSETTO:-0700
DTSTART:20210414T230000
TZNAME:PDT
END:DAYLIGHT
END:VTIMEZONE
BEGIN:VEVENT
SUMMARY:Healthy Lunch Ideas For Kids
DESCRIPTION:This workshop will take place on our Facebook RMCS Settlers 
 Group and there are only TWO steps to join RMCS Settlers group to watch 
 our FREE workshops\;\n1) Simply\, “like” our Facebook and\;\n2) Yo
 u can find “RMCS Settlers” under “group”. Answer the two questio
 ns\, press “join” and you are set! Please join us at RMCS Settlers g
 roup for more timely information!
URL;VALUE=URI:https://www.rmcs.bc.ca/events/healthy-lunch-ideas-for-kids
 /
UID:urn:uuid:63a37348-084f-4755-9be6-5b19485d694f
STATUS:CONFIRMED
ORGANIZER:
DTSTAMP:20260425T232624Z
DTSTART;TZID=America/Vancouver:20211014T110000
DTEND;TZID=America/Vancouver:20211014T113000
LOCATION:Facebook RMCS Settlers
END:VEVENT
END:VCALENDAR