BEGIN:VCALENDAR
METHOD:PUBLISH
VERSION:2.0
CALSCALE:GREGORIAN
PRODID:-//NONSGML WPForms//NONSGML Sugar Calendar Feeds v3.11.0//EN
X-WR-CALNAME:Financial Wellbeing for Newcomers
X-WR-CALDESC:Richmond Multicultural Community Services
X-WR-TIMEZONE:America/Vancouver
BEGIN:VTIMEZONE
TZID:America/Vancouver
BEGIN:STANDARD
TZOFFSETFROM:-0700
TZOFFSETTO:-0800
DTSTART:20231105T090000
TZNAME:PST
END:STANDARD
END:VTIMEZONE
BEGIN:VTIMEZONE
TZID:America/Vancouver
BEGIN:STANDARD
TZOFFSETFROM:-0700
TZOFFSETTO:-0800
DTSTART:20231105T090000
TZNAME:PST
END:STANDARD
END:VTIMEZONE
BEGIN:VEVENT
SUMMARY:Financial Wellbeing for Newcomers
DESCRIPTION:Do you want to learn more about financial smartness and well
 being? Come join this workshop to learn about these essential skills for
  newcomers. This workshop will take place at Richmond Caring Place Room 
 294 and via Zoom (Hybrid). Please contact Gurleen at gurleen@rmcs.bc.ca 
 or call 604-279-7160 for more information/registration.
URL;VALUE=URI:https://www.rmcs.bc.ca/events/financial-wellbeing-for-newc
 omers/
UID:urn:uuid:72898af7-165e-4756-a7a1-f9899aab03b8
STATUS:CONFIRMED
ORGANIZER:
DTSTAMP:20260424T013215Z
DTSTART;TZID=America/Vancouver:20231216T130000
DTEND;TZID=America/Vancouver:20231216T150000
LOCATION:CP294 and Zoom
END:VEVENT
END:VCALENDAR