BEGIN:VCALENDAR
METHOD:PUBLISH
VERSION:2.0
CALSCALE:GREGORIAN
PRODID:-//NONSGML WPForms//NONSGML Sugar Calendar Feeds v3.11.0//EN
X-WR-CALNAME:English Conversation Circle for Youth
X-WR-CALDESC:Richmond Multicultural Community Services
X-WR-TIMEZONE:America/Vancouver
BEGIN:VTIMEZONE
TZID:America/Vancouver
BEGIN:DAYLIGHT
TZOFFSETFROM:-0700
TZOFFSETTO:-0700
DTSTART:20230506T010000
TZNAME:PDT
END:DAYLIGHT
END:VTIMEZONE
BEGIN:VTIMEZONE
TZID:America/Vancouver
BEGIN:DAYLIGHT
TZOFFSETFROM:-0700
TZOFFSETTO:-0700
DTSTART:20230506T010000
TZNAME:PDT
END:DAYLIGHT
END:VTIMEZONE
BEGIN:VEVENT
SUMMARY:English Conversation Circle for Youth
DESCRIPTION:Are you a youth and want to improve your English? Come to th
 is workshop\, meet friends\, connect with the community\, and practice E
 nglish in a fun way!\n\nThis workshop will take place in Richmond Caring
  Place Room 320. Please contact Mohammed at mohammed@rmcs.bc.ca or call
  604-279-7160 for more information/registration.
URL;VALUE=URI:https://www.rmcs.bc.ca/events/english-conversation-circle-
 for-youth-2-2-2-2-2-2-2-2/
UID:urn:uuid:f6e5469f-6954-4758-94c0-8fc9788dd3bc
STATUS:CONFIRMED
ORGANIZER:
DTSTAMP:20260420T211026Z
DTSTART;TZID=America/Vancouver:20231104T130000
DTEND;TZID=America/Vancouver:20231104T150000
LOCATION:CP320
END:VEVENT
END:VCALENDAR