BEGIN:VCALENDAR
METHOD:PUBLISH
VERSION:2.0
CALSCALE:GREGORIAN
PRODID:-//NONSGML WPForms//NONSGML Sugar Calendar Feeds v3.11.0//EN
X-WR-CALNAME:Emergency Preparedness
X-WR-CALDESC:Richmond Multicultural Community Services
X-WR-TIMEZONE:America/Vancouver
BEGIN:VTIMEZONE
TZID:America/Vancouver
BEGIN:DAYLIGHT
TZOFFSETFROM:-0800
TZOFFSETTO:-0700
DTSTART:20240310T100000
TZNAME:PDT
END:DAYLIGHT
END:VTIMEZONE
BEGIN:VTIMEZONE
TZID:America/Vancouver
BEGIN:DAYLIGHT
TZOFFSETFROM:-0800
TZOFFSETTO:-0700
DTSTART:20240310T100000
TZNAME:PDT
END:DAYLIGHT
END:VTIMEZONE
BEGIN:VEVENT
SUMMARY:Emergency Preparedness
DESCRIPTION:Join this workshop on how to prepare yourself and your famil
 y in an emergency. How to prepare for an earthquake. How to make food de
 cisions during a disaster. This workshop will take place in Richmond Car
 ing Place Room 294 and Zoom (Hybrid). Please contact Xiaowei at xiaowei.
 li@rmcs.bc.ca\, or call 604-279-7160 for registration or more informatio
 n.
URL;VALUE=URI:https://www.rmcs.bc.ca/events/emergency-preparedness-6/
UID:urn:uuid:1cf40074-63ab-436a-bca7-15fb09a4b9e8
STATUS:CONFIRMED
ORGANIZER:
DTSTAMP:20260421T094520Z
DTSTART;TZID=America/Vancouver:20240813T130000
DTEND;TZID=America/Vancouver:20240813T143000
END:VEVENT
END:VCALENDAR