BEGIN:VCALENDAR
METHOD:PUBLISH
VERSION:2.0
CALSCALE:GREGORIAN
PRODID:-//NONSGML WPForms//NONSGML Sugar Calendar Feeds v3.11.0//EN
X-WR-CALNAME:Customer Service Skills
X-WR-CALDESC:Richmond Multicultural Community Services
X-WR-TIMEZONE:America/Vancouver
BEGIN:VTIMEZONE
TZID:America/Vancouver
BEGIN:STANDARD
TZOFFSETFROM:-0700
TZOFFSETTO:-0800
DTSTART:20201101T090000
TZNAME:PST
END:STANDARD
END:VTIMEZONE
BEGIN:VTIMEZONE
TZID:America/Vancouver
BEGIN:STANDARD
TZOFFSETFROM:-0700
TZOFFSETTO:-0800
DTSTART:20201101T090000
TZNAME:PST
END:STANDARD
END:VTIMEZONE
BEGIN:VEVENT
SUMMARY:Customer Service Skills
DESCRIPTION:Customer service skill is one of the essential skills in the
  workplace. Come join us at this workshop and learn about these importan
 t skills.\n\nThis workshop will take place on Zoom. Please contact Thuy 
 at thuy@rmcs.bc.ca or call 604-279-7160 for more information/registratio
 n.
URL;VALUE=URI:https://www.rmcs.bc.ca/events/customer-service-skills-2/
UID:urn:uuid:d95fe46a-f8b9-43fe-a500-379db5206a4d
STATUS:CONFIRMED
ORGANIZER:
DTSTAMP:20260421T005713Z
DTSTART;TZID=America/Vancouver:20201212T103000
DTEND;TZID=America/Vancouver:20201212T120000
END:VEVENT
END:VCALENDAR