BEGIN:VCALENDAR
METHOD:PUBLISH
VERSION:2.0
CALSCALE:GREGORIAN
PRODID:-//NONSGML WPForms//NONSGML Sugar Calendar Feeds v3.11.0//EN
X-WR-CALNAME:Computers for Connections
X-WR-CALDESC:Richmond Multicultural Community Services
X-WR-TIMEZONE:America/Vancouver
BEGIN:VTIMEZONE
TZID:America/Vancouver
BEGIN:DAYLIGHT
TZOFFSETFROM:-0700
TZOFFSETTO:-0700
DTSTART:20230419T220000
TZNAME:PDT
END:DAYLIGHT
END:VTIMEZONE
BEGIN:VTIMEZONE
TZID:America/Vancouver
BEGIN:DAYLIGHT
TZOFFSETFROM:-0700
TZOFFSETTO:-0700
DTSTART:20230419T220000
TZNAME:PDT
END:DAYLIGHT
END:VTIMEZONE
BEGIN:VEVENT
SUMMARY:Computers for Connections
DESCRIPTION:Do you want to learn more about social media to connect with
  friends and relatives? come and join this workshop to learn how to use 
 social media effectively.\n\nThis workshop will take place at Richmond C
 aring Place Room 320 and via Zoom (Hybrid). Please contact Xiaowei at xi
 aowei@rmcs.bc.ca or call 604-279-7160 for more information/registration.
URL;VALUE=URI:https://www.rmcs.bc.ca/events/computers-for-connections-5-
 2-3-2-2-2-2-2-2-2-2/
UID:urn:uuid:d5bdc89a-9497-426e-9488-6717db300740
STATUS:CONFIRMED
ORGANIZER:
DTSTAMP:20260423T172230Z
DTSTART;TZID=America/Vancouver:20231019T100000
DTEND;TZID=America/Vancouver:20231019T120000
LOCATION:CP320 and Zoom
END:VEVENT
END:VCALENDAR