BEGIN:VCALENDAR
METHOD:PUBLISH
VERSION:2.0
CALSCALE:GREGORIAN
PRODID:-//NONSGML WPForms//NONSGML Sugar Calendar Feeds v3.11.0//EN
X-WR-CALNAME:Community Involvement
X-WR-CALDESC:Richmond Multicultural Community Services
X-WR-TIMEZONE:America/Vancouver
BEGIN:VTIMEZONE
TZID:America/Vancouver
BEGIN:STANDARD
TZOFFSETFROM:-0700
TZOFFSETTO:-0800
DTSTART:20211107T090000
TZNAME:PST
END:STANDARD
BEGIN:DAYLIGHT
TZOFFSETFROM:-0800
TZOFFSETTO:-0700
DTSTART:20220313T100000
TZNAME:PDT
END:DAYLIGHT
END:VTIMEZONE
BEGIN:VTIMEZONE
TZID:America/Vancouver
BEGIN:STANDARD
TZOFFSETFROM:-0700
TZOFFSETTO:-0800
DTSTART:20211107T090000
TZNAME:PST
END:STANDARD
BEGIN:DAYLIGHT
TZOFFSETFROM:-0800
TZOFFSETTO:-0700
DTSTART:20220313T100000
TZNAME:PDT
END:DAYLIGHT
END:VTIMEZONE
BEGIN:VEVENT
SUMMARY:Community Involvement
DESCRIPTION:Do you want to become a volunteer? Join this workshop and le
 arn how to offer your skills to help the community. This workshop will t
 ake place on Zoom. Please contact Neena at neena@rmcs.bc.ca or call 604-
 279-7160 for more information/registration.
URL;VALUE=URI:https://www.rmcs.bc.ca/events/community-involvement/
UID:urn:uuid:0f1bc689-d58e-4f3f-895a-22049485c714
STATUS:CONFIRMED
ORGANIZER:
DTSTAMP:20260420T133849Z
DTSTART;TZID=America/Vancouver:20220409T103000
DTEND;TZID=America/Vancouver:20220409T120000
LOCATION:Zoom
END:VEVENT
END:VCALENDAR