BEGIN:VCALENDAR
METHOD:PUBLISH
VERSION:2.0
CALSCALE:GREGORIAN
PRODID:-//NONSGML WPForms//NONSGML Sugar Calendar Feeds v3.11.0//EN
X-WR-CALNAME:Chinese Networking Group
X-WR-CALDESC:Richmond Multicultural Community Services
X-WR-TIMEZONE:America/Vancouver
BEGIN:VTIMEZONE
TZID:America/Vancouver
BEGIN:DAYLIGHT
TZOFFSETFROM:-0800
TZOFFSETTO:-0700
DTSTART:20200308T100000
TZNAME:PDT
END:DAYLIGHT
END:VTIMEZONE
BEGIN:VTIMEZONE
TZID:America/Vancouver
BEGIN:DAYLIGHT
TZOFFSETFROM:-0800
TZOFFSETTO:-0700
DTSTART:20200308T100000
TZNAME:PDT
END:DAYLIGHT
END:VTIMEZONE
BEGIN:VEVENT
SUMMARY:Chinese Networking Group
DESCRIPTION:Do you speak Chinese and want to make friends? This group sh
 ares information\, learns English and Computer. Join and find out other 
 things you can also learn!\n\nThis workshop will take place on Zoom. Ple
 ase contact Xiaowei at xiaowei@rmcs.bc.ca or call 604-279-7160 for more 
 information/registration.
URL;VALUE=URI:https://www.rmcs.bc.ca/events/chinese-networking-group/
UID:urn:uuid:80fce749-53d7-4c61-b371-65c0a0960ee5
STATUS:CONFIRMED
ORGANIZER:
DTSTAMP:20260419T145200Z
DTSTART;TZID=America/Vancouver:20200709T140000
DTEND;TZID=America/Vancouver:20200709T150000
LOCATION:Zoom
END:VEVENT
END:VCALENDAR