BEGIN:VCALENDAR
METHOD:PUBLISH
VERSION:2.0
CALSCALE:GREGORIAN
PRODID:-//NONSGML WPForms//NONSGML Sugar Calendar Feeds v3.11.0//EN
X-WR-CALNAME:Chinese-Networking-Group
X-WR-CALDESC:Richmond Multicultural Community Services
X-WR-TIMEZONE:America/Vancouver
BEGIN:VTIMEZONE
TZID:America/Vancouver
BEGIN:DAYLIGHT
TZOFFSETFROM:-0800
TZOFFSETTO:-0700
DTSTART:20220313T100000
TZNAME:PDT
END:DAYLIGHT
END:VTIMEZONE
BEGIN:VTIMEZONE
TZID:America/Vancouver
BEGIN:DAYLIGHT
TZOFFSETFROM:-0800
TZOFFSETTO:-0700
DTSTART:20220313T100000
TZNAME:PDT
END:DAYLIGHT
END:VTIMEZONE
BEGIN:VEVENT
SUMMARY:Chinese Networking Group
DESCRIPTION:Do you speak Chinese and want to make friends? This group sh
 ares information\, and learns English\, and about Computers. Join and fi
 nd out other things you can also learn!\n\nThis workshop will take place
  on CP 320 and Zoom (Hybrid). Please contact Xiaowei at xiaowei@rmcs.bc.
 ca or call 604-279-7160 for more information/registration.
URL;VALUE=URI:https://www.rmcs.bc.ca/sc_recurring_event/chinese-networki
 ng-group-4/
UID:urn:uuid:4f521180-a23b-4001-b2c4-d0027b28e82d
STATUS:CONFIRMED
ORGANIZER:
DTSTAMP:20260425T180442Z
DTSTART;TZID=America/Vancouver:20220609T140000
DTEND;TZID=America/Vancouver:20220609T140000
RRULE:FREQ=MONTHLY;INTERVAL=1;UNTIL=20220731T235959Z
LOCATION:CP 320 and Zoom
END:VEVENT
END:VCALENDAR