BEGIN:VCALENDAR
METHOD:PUBLISH
VERSION:2.0
CALSCALE:GREGORIAN
PRODID:-//NONSGML WPForms//NONSGML Sugar Calendar Feeds v3.11.0//EN
X-WR-CALNAME:Canadian Citizenship Preparation Series
X-WR-CALDESC:Richmond Multicultural Community Services
X-WR-TIMEZONE:America/Vancouver
BEGIN:VTIMEZONE
TZID:America/Vancouver
BEGIN:STANDARD
TZOFFSETFROM:-0700
TZOFFSETTO:-0800
DTSTART:20231105T090000
TZNAME:PST
END:STANDARD
END:VTIMEZONE
BEGIN:VTIMEZONE
TZID:America/Vancouver
BEGIN:STANDARD
TZOFFSETFROM:-0700
TZOFFSETTO:-0800
DTSTART:20231105T090000
TZNAME:PST
END:STANDARD
END:VTIMEZONE
BEGIN:VEVENT
SUMMARY:Canadian Citizenship Preparation Series
DESCRIPTION:Need some extra tips for the Canadian Citizenship Test? Lear
 n how to answer questions and what to expect as we study "Discover Canad
 a".\n\nThis workshop will take place at Richmond Public Library Brighous
 e Branch. Please contact Xiaowei at xiaowei@rmcs.bc.ca or call 604-279-7
 160 for more information/registration.
URL;VALUE=URI:https://www.rmcs.bc.ca/events/canadian-citizenship-test-pr
 eparation-2-2-3-2/
UID:urn:uuid:3274627d-4b54-4830-886b-47e6bdf4e5ef
STATUS:CONFIRMED
ORGANIZER:
DTSTAMP:20260422T225946Z
DTSTART;TZID=America/Vancouver:20240227T103000
DTEND;TZID=America/Vancouver:20240227T120000
RRULE:FREQ=WEEKLY;INTERVAL=1;UNTIL=20240305T235959Z
LOCATION:Richmond Public Library Brighouse Branch
END:VEVENT
END:VCALENDAR