BEGIN:VCALENDAR
METHOD:PUBLISH
VERSION:2.0
CALSCALE:GREGORIAN
PRODID:-//NONSGML WPForms//NONSGML Sugar Calendar Feeds v3.11.0//EN
X-WR-CALNAME:Business Email Writing
X-WR-CALDESC:Richmond Multicultural Community Services
X-WR-TIMEZONE:America/Vancouver
BEGIN:VTIMEZONE
TZID:America/Vancouver
BEGIN:DAYLIGHT
TZOFFSETFROM:-0800
TZOFFSETTO:-0700
DTSTART:20220313T100000
TZNAME:PDT
END:DAYLIGHT
END:VTIMEZONE
BEGIN:VTIMEZONE
TZID:America/Vancouver
BEGIN:DAYLIGHT
TZOFFSETFROM:-0800
TZOFFSETTO:-0700
DTSTART:20220313T100000
TZNAME:PDT
END:DAYLIGHT
END:VTIMEZONE
BEGIN:VEVENT
SUMMARY:Business Email Writing
DESCRIPTION:Do you want to learn how to write a proper email at work? Co
 me join this workshop and learn how to write a business email.\n\nThis w
 orkshop will take place on CP 345/50 and Zoom (Hybrid). Please contact D
 esiree at desiree@rmcs.bc.ca or call 604-279-7160 for more information/r
 egistration.
URL;VALUE=URI:https://www.rmcs.bc.ca/events/business-email-writing/
UID:urn:uuid:057aa90b-59e9-4499-9a1e-d1e46080c91a
STATUS:CONFIRMED
ORGANIZER:
DTSTAMP:20260423T132138Z
DTSTART;TZID=America/Vancouver:20220714T103000
DTEND;TZID=America/Vancouver:20220714T120000
LOCATION:CP345/50 and Zoom
END:VEVENT
END:VCALENDAR