BEGIN:VCALENDAR
METHOD:PUBLISH
VERSION:2.0
CALSCALE:GREGORIAN
PRODID:-//NONSGML WPForms//NONSGML Sugar Calendar Feeds v3.11.0//EN
X-WR-CALNAME:Afghan Homework Club
X-WR-CALDESC:Richmond Multicultural Community Services
X-WR-TIMEZONE:America/Vancouver
BEGIN:VTIMEZONE
TZID:America/Vancouver
BEGIN:STANDARD
TZOFFSETFROM:-0700
TZOFFSETTO:-0800
DTSTART:20241103T090000
TZNAME:PST
END:STANDARD
END:VTIMEZONE
BEGIN:VTIMEZONE
TZID:America/Vancouver
BEGIN:STANDARD
TZOFFSETFROM:-0700
TZOFFSETTO:-0800
DTSTART:20241103T090000
TZNAME:PST
END:STANDARD
END:VTIMEZONE
BEGIN:VEVENT
SUMMARY:Afghan Homework Club
DESCRIPTION:Are you an Afghan Youth (age 5-18)? Need help with homework?
  Come\, join this club to get extra help with your homework. This worksh
 op will take place at Richmond Caring Place Room 294. Please contact Sed
 iqullah Sahar at sediqullah.sahar@rmcs.bc.ca or call 604-279-7160 for m
 ore information/registration.
URL;VALUE=URI:https://www.rmcs.bc.ca/events/afghan-homework-club-3-3-2-3
 -2-2-2-4/
UID:urn:uuid:c1c9dd6a-cf2b-49a1-a211-0c2075b087ff
STATUS:CONFIRMED
ORGANIZER:
DTSTAMP:20260421T173649Z
DTSTART;TZID=America/Vancouver:20250305T153000
DTEND;TZID=America/Vancouver:20250305T170000
RRULE:FREQ=WEEKLY;INTERVAL=1;UNTIL=20250331T235959Z
LOCATION:CP294
END:VEVENT
END:VCALENDAR