BEGIN:VCALENDAR
METHOD:PUBLISH
VERSION:2.0
CALSCALE:GREGORIAN
PRODID:-//NONSGML WPForms//NONSGML Sugar Calendar Feeds v3.11.0//EN
X-WR-CALNAME:A Community Conversation - Black History Month and Beyond
X-WR-CALDESC:Richmond Multicultural Community Services
X-WR-TIMEZONE:America/Vancouver
BEGIN:VTIMEZONE
TZID:America/Vancouver
BEGIN:STANDARD
TZOFFSETFROM:-0700
TZOFFSETTO:-0800
DTSTART:20221106T090000
TZNAME:PST
END:STANDARD
BEGIN:DAYLIGHT
TZOFFSETFROM:-0800
TZOFFSETTO:-0700
DTSTART:20230312T100000
TZNAME:PDT
END:DAYLIGHT
END:VTIMEZONE
BEGIN:VTIMEZONE
TZID:America/Vancouver
BEGIN:STANDARD
TZOFFSETFROM:-0700
TZOFFSETTO:-0800
DTSTART:20221106T090000
TZNAME:PST
END:STANDARD
BEGIN:DAYLIGHT
TZOFFSETFROM:-0800
TZOFFSETTO:-0700
DTSTART:20230312T100000
TZNAME:PDT
END:DAYLIGHT
END:VTIMEZONE
BEGIN:VEVENT
SUMMARY:A Community Conversation - Black History Month and Beyond
DESCRIPTION:What lessons can we learn to build community in Richmond?\n\
 nThis event showcase will involve conversations and structured dialogue 
 to compare and contrast and draw lessons from the shared and divergent e
 xperiences of racism and exclusion and experiences faced by Black Canadi
 ans\, Asian Canadians\, AND indigenous Canadians. We will expressly hope
  to build partnership opportunities with our colleagues in the Musqueam 
 Nation.\n\nWe are holding a Black History Month event and Community Conv
 ersation  – please start talking to your clients and community contac
 ts about this.\n\nJoin us for an educational round table and celebration
  of Black and other BIPOC cultures to be held on Thursday\, March 16\, 2
 023. This event will a) celebrate Black history and experience and b) ce
 lebrate other BIPOC and also Indigenous cultures and contributions to Ca
 nadian\, cultural\, social\, and political life. The round table will hi
 ghlight the contributions of Black Canadians in Richmond by showcasing t
 he work of key current and former community members- Black Canadians tha
 t do or have had a connection to Richmond BC and Metro Vancouver.\n\nAn 
 event for BLACK other BIPOC and Indigenous community members to share cu
 lture and beliefs and experiences - an event where culture is showcased 
 and cultural similarities and differences are shared - and then also an 
 exploration of barriers\, racism\, and cultural acceptance/ integrations
 - what that means practically and historically for communities.\n\nFor r
 egistration or questions\, please contact Alan at alan@rmcs.bc.ca.\n\n\n
 \n&nbsp\;
URL;VALUE=URI:https://www.rmcs.bc.ca/events/a-community-conversation-bla
 ck-history-month-and-beyond/
UID:urn:uuid:27f70277-8307-46a8-b078-ffa8e7f3f77c
STATUS:CONFIRMED
ORGANIZER:
DTSTAMP:20260424T034302Z
DTSTART;TZID=America/Vancouver:20230316T180000
DTEND;TZID=America/Vancouver:20230316T200000
LOCATION:CP340/45/50
END:VEVENT
END:VCALENDAR