BEGIN:VCALENDAR
METHOD:PUBLISH
VERSION:2.0
CALSCALE:GREGORIAN
PRODID:-//NONSGML WPForms//NONSGML Sugar Calendar Feeds v3.11.0//EN
X-WR-CALNAME:Newcomers Benefits
X-WR-CALDESC:Richmond Multicultural Community Services
X-WR-TIMEZONE:America/Vancouver
BEGIN:VTIMEZONE
TZID:America/Vancouver
BEGIN:STANDARD
TZOFFSETFROM:-0700
TZOFFSETTO:-0800
DTSTART:20231105T090000
TZNAME:PST
END:STANDARD
BEGIN:DAYLIGHT
TZOFFSETFROM:-0800
TZOFFSETTO:-0700
DTSTART:20240310T100000
TZNAME:PDT
END:DAYLIGHT
END:VTIMEZONE
BEGIN:VTIMEZONE
TZID:America/Vancouver
BEGIN:STANDARD
TZOFFSETFROM:-0700
TZOFFSETTO:-0800
DTSTART:20231105T090000
TZNAME:PST
END:STANDARD
BEGIN:DAYLIGHT
TZOFFSETFROM:-0800
TZOFFSETTO:-0700
DTSTART:20240310T100000
TZNAME:PDT
END:DAYLIGHT
END:VTIMEZONE
BEGIN:VEVENT
SUMMARY:Newcomers Benefits
DESCRIPTION:Are you a newcomer? Come join this workshop to learn more ab
 out what kind of benefits you and your family may get. This workshop wil
 l take place in Richmond Caring Place Room 294. Please contact Mohammed 
 at mohammed@rmcs.bc.ca or call 604-279-7160 for registration or more in
 formation.
URL;VALUE=URI:http://www.rmcs.bc.ca/events/understanding-newcomer-benefi
 ts-2-2/
UID:urn:uuid:b6d51c76-758c-42d1-8df8-a719581556c3
STATUS:CONFIRMED
ORGANIZER:
DTSTAMP:20260419T121129Z
DTSTART;TZID=America/Vancouver:20240504T130000
DTEND;TZID=America/Vancouver:20240504T150000
LOCATION:CP294
END:VEVENT
END:VCALENDAR